Package: DrugVsDisease Version: 2.48.0 Command: chmod a+r DrugVsDisease -R && F:\biocbuild\bbs-3.20-bioc\R\bin\R.exe CMD build --keep-empty-dirs --no-resave-data DrugVsDisease StartedAt: 2025-01-02 18:39:11 -0500 (Thu, 02 Jan 2025) EndedAt: 2025-01-02 18:40:02 -0500 (Thu, 02 Jan 2025) EllapsedTime: 50.9 seconds RetCode: 0 Status: OK PackageFile: DrugVsDisease_2.48.0.tar.gz PackageFileSize: 1.741 MiB