Package: DrugVsDisease Version: 2.50.0 Command: E:\biocbuild\bbs-3.21-bioc\R\bin\R.exe CMD INSTALL DrugVsDisease StartedAt: 2025-08-14 16:39:49 -0400 (Thu, 14 Aug 2025) EndedAt: 2025-08-14 16:40:59 -0400 (Thu, 14 Aug 2025) EllapsedTime: 70.1 seconds RetCode: 0 Status: OK