Package: DrugVsDisease Version: 2.50.0 Command: /home/biocbuild/bbs-3.21-bioc/R/bin/R CMD build --keep-empty-dirs --no-resave-data DrugVsDisease StartedAt: 2025-10-12 17:18:37 -0400 (Sun, 12 Oct 2025) EndedAt: 2025-10-12 17:19:14 -0400 (Sun, 12 Oct 2025) EllapsedTime: 37.0 seconds RetCode: 0 Status: OK PackageFile: DrugVsDisease_2.50.0.tar.gz PackageFileSize: 1.829 MiB