Package: DriverNet Version: 1.46.0 Command: /home/biocbuild/R/R/bin/R CMD build --keep-empty-dirs --no-resave-data DriverNet StartedAt: 2025-01-30 23:17:25 -0000 (Thu, 30 Jan 2025) EndedAt: 2025-01-30 23:17:56 -0000 (Thu, 30 Jan 2025) EllapsedTime: 31.0 seconds RetCode: 0 Status: OK PackageFile: DriverNet_1.46.0.tar.gz PackageFileSize: 1.109 MiB