Package: DriverNet Version: 1.46.0 Command: rm -rf DriverNet.buildbin-libdir && mkdir DriverNet.buildbin-libdir && F:\biocbuild\bbs-3.20-bioc\R\bin\R.exe CMD INSTALL --build --library=DriverNet.buildbin-libdir DriverNet_1.46.0.tar.gz StartedAt: 2025-01-31 08:34:37 -0500 (Fri, 31 Jan 2025) EndedAt: 2025-01-31 08:34:54 -0500 (Fri, 31 Jan 2025) EllapsedTime: 16.9 seconds RetCode: 0 Status: OK PackageFile: DriverNet_1.46.0.zip PackageFileSize: 1.176 MiB