Package: DriverNet Version: 1.46.0 Command: /home/biocbuild/bbs-3.20-bioc/R/bin/R CMD INSTALL DriverNet StartedAt: 2025-02-03 15:13:26 -0500 (Mon, 03 Feb 2025) EndedAt: 2025-02-03 15:13:31 -0500 (Mon, 03 Feb 2025) EllapsedTime: 4.8 seconds RetCode: 0 Status: OK