Package: DriverNet Version: 1.46.0 Command: /Library/Frameworks/R.framework/Resources/bin/R CMD INSTALL DriverNet StartedAt: 2025-01-30 15:06:32 -0500 (Thu, 30 Jan 2025) EndedAt: 2025-01-30 15:06:48 -0500 (Thu, 30 Jan 2025) EllapsedTime: 16.2 seconds RetCode: 0 Status: OK