Package: DriverNet Version: 1.46.0 Command: /Library/Frameworks/R.framework/Resources/bin/R CMD build --keep-empty-dirs --no-resave-data DriverNet StartedAt: 2025-01-30 18:49:26 -0500 (Thu, 30 Jan 2025) EndedAt: 2025-01-30 18:50:31 -0500 (Thu, 30 Jan 2025) EllapsedTime: 65.6 seconds RetCode: 0 Status: OK PackageFile: DriverNet_1.46.0.tar.gz PackageFileSize: 1.116 MiB