Package: DriverNet Version: 1.46.0 Command: rm -rf DriverNet.buildbin-libdir && mkdir DriverNet.buildbin-libdir && /Users/biocbuild/BBS/utils/build-universal.sh DriverNet_1.46.0.tar.gz /Library/Frameworks/R.framework/Resources/bin/R DriverNet.buildbin-libdir StartedAt: 2025-02-04 12:51:57 -0500 (Tue, 04 Feb 2025) EndedAt: 2025-02-04 12:52:03 -0500 (Tue, 04 Feb 2025) EllapsedTime: 6.3 seconds RetCode: 0 Status: OK PackageFile: DriverNet_1.46.0.tgz PackageFileSize: 1.171 MiB