Package: DriverNet Version: 1.46.0 Command: rm -rf DriverNet.buildbin-libdir && mkdir DriverNet.buildbin-libdir && /Users/biocbuild/BBS/utils/build-universal.sh DriverNet_1.46.0.tar.gz /Library/Frameworks/R.framework/Resources/bin/R DriverNet.buildbin-libdir StartedAt: 2024-11-09 16:47:17 -0500 (Sat, 09 Nov 2024) EndedAt: 2024-11-09 16:47:19 -0500 (Sat, 09 Nov 2024) EllapsedTime: 2.0 seconds RetCode: 0 Status: OK PackageFile: DriverNet_1.46.0.tgz PackageFileSize: 1.173 MiB