Package: Doscheda Version: 1.30.0 Command: /Library/Frameworks/R.framework/Resources/bin/R CMD check --install=check:Doscheda.install-out.txt --library=/Library/Frameworks/R.framework/Resources/library --no-vignettes --timings Doscheda_1.30.0.tar.gz StartedAt: 2025-05-06 02:44:33 -0400 (Tue, 06 May 2025) EndedAt: 2025-05-06 02:50:44 -0400 (Tue, 06 May 2025) EllapsedTime: 371.5 seconds RetCode: 0 Status: OK CheckDir: Doscheda.Rcheck Warnings: 0