Package: DominoEffect Version: 1.28.0 Command: /Library/Frameworks/R.framework/Resources/bin/R CMD INSTALL DominoEffect StartedAt: 2025-04-21 15:38:15 -0400 (Mon, 21 Apr 2025) EndedAt: 2025-04-21 15:39:10 -0400 (Mon, 21 Apr 2025) EllapsedTime: 55.9 seconds RetCode: 0 Status: OK