Package: DominoEffect Version: 1.28.0 Command: /Library/Frameworks/R.framework/Resources/bin/R CMD check --install=check:DominoEffect.install-out.txt --library=/Library/Frameworks/R.framework/Resources/library --no-vignettes --timings DominoEffect_1.28.0.tar.gz StartedAt: 2025-04-21 20:24:53 -0400 (Mon, 21 Apr 2025) EndedAt: 2025-04-21 20:31:20 -0400 (Mon, 21 Apr 2025) EllapsedTime: 387.6 seconds RetCode: 0 Status: OK CheckDir: DominoEffect.Rcheck Warnings: 0