Package: DominoEffect Version: 1.28.0 Command: /Library/Frameworks/R.framework/Resources/bin/R CMD build --keep-empty-dirs --no-resave-data DominoEffect StartedAt: 2025-04-21 16:39:04 -0400 (Mon, 21 Apr 2025) EndedAt: 2025-04-21 16:40:33 -0400 (Mon, 21 Apr 2025) EllapsedTime: 89.1 seconds RetCode: 0 Status: OK PackageFile: DominoEffect_1.28.0.tar.gz PackageFileSize: 473.3 KiB