Package: DominoEffect Version: 1.28.0 Command: rm -rf DominoEffect.buildbin-libdir && mkdir DominoEffect.buildbin-libdir && /Users/biocbuild/BBS/utils/build-universal.sh DominoEffect_1.28.0.tar.gz /Library/Frameworks/R.framework/Resources/bin/R DominoEffect.buildbin-libdir StartedAt: 2025-04-22 00:43:16 -0400 (Tue, 22 Apr 2025) EndedAt: 2025-04-22 00:44:13 -0400 (Tue, 22 Apr 2025) EllapsedTime: 57.9 seconds RetCode: 0 Status: OK PackageFile: DominoEffect_1.28.0.tgz PackageFileSize: 547.3 KiB