Package: DominoEffect Version: 1.28.0 Command: rm -rf DominoEffect.buildbin-libdir && mkdir DominoEffect.buildbin-libdir && /Users/biocbuild/BBS/utils/build-universal.sh DominoEffect_1.28.0.tar.gz /Library/Frameworks/R.framework/Resources/bin/R DominoEffect.buildbin-libdir StartedAt: 2025-05-07 15:35:47 -0400 (Wed, 07 May 2025) EndedAt: 2025-05-07 15:36:39 -0400 (Wed, 07 May 2025) EllapsedTime: 52.2 seconds RetCode: 0 Status: OK PackageFile: DominoEffect_1.28.0.tgz PackageFileSize: 547.7 KiB