Package: DiscoRhythm Version: 1.24.0 Command: rm -rf DiscoRhythm.buildbin-libdir && mkdir DiscoRhythm.buildbin-libdir && /Users/biocbuild/BBS/utils/build-universal.sh DiscoRhythm_1.24.0.tar.gz /Library/Frameworks/R.framework/Resources/bin/R DiscoRhythm.buildbin-libdir StartedAt: 2025-04-21 22:33:13 -0400 (Mon, 21 Apr 2025) EndedAt: 2025-04-21 22:33:26 -0400 (Mon, 21 Apr 2025) EllapsedTime: 13.2 seconds RetCode: 0 Status: OK PackageFile: DiscoRhythm_1.24.0.tgz PackageFileSize: 1.914 MiB