Back to Multiple platform build/check report for BioC 3.22:   simplified   long
ABC[D]EFGHIJKLMNOPQRSTUVWXYZ

This page was generated on 2025-11-07 11:59 -0500 (Fri, 07 Nov 2025).

HostnameOSArch (*)R versionInstalled pkgs
nebbiolo2Linux (Ubuntu 24.04.3 LTS)x86_644.5.1 Patched (2025-08-23 r88802) -- "Great Square Root" 4902
kjohnson3macOS 13.7.7 Venturaarm644.5.1 Patched (2025-09-10 r88807) -- "Great Square Root" 4638
Click on any hostname to see more info about the system (e.g. compilers)      (*) as reported by 'uname -p', except on Windows and Mac OS X

All results for package DirichletMultinomial


To the developers/maintainers of the DirichletMultinomial package:
- Allow up to 24 hours (and sometimes 48 hours) for your latest push to git@git.bioconductor.org:packages/DirichletMultinomial.git to reflect on this report. See Troubleshooting Build Report for more information.
- Use the following Renviron settings to reproduce errors and warnings.
- If 'R CMD check' started to fail recently on the Linux builder(s) over a missing dependency, add the missing dependency to 'Suggests:' in your DESCRIPTION file. See Renviron.bioc for more information.

raw results

Package 596/2361HostnameOS / ArchINSTALLBUILDCHECKBUILD BIN
DirichletMultinomial 1.52.0  (landing page)
Martin Morgan
Snapshot Date: 2025-11-06 13:45 -0500 (Thu, 06 Nov 2025)
git_url: https://git.bioconductor.org/packages/DirichletMultinomial
git_branch: RELEASE_3_22
git_last_commit: bfdb1c5
git_last_commit_date: 2025-10-29 10:11:03 -0500 (Wed, 29 Oct 2025)
nebbiolo2Linux (Ubuntu 24.04.3 LTS) / x86_64  OK    OK    WARNINGS  UNNEEDED, same version is already published
kjohnson3macOS 13.7.7 Ventura / arm64  OK    OK    OK    OK  UNNEEDED, same version is already published



Results for Bioconductor software packages that depend directly on package DirichletMultinomial

QUICK STATSOS / ArchINSTALLBUILDCHECKBUILD BIN
nebbiolo2Linux (Ubuntu 24.04.3 LTS) / x86_64
003
003
0003
kjohnson3macOS 13.7.7 Ventura / arm64
003
003
0102
003
Package 1/3HostnameOS / ArchINSTALLBUILDCHECKBUILD BIN
mia 1.18.0  (landing page)
Tuomas Borman
git_last_commit: ad28035
git_last_commit_date: 2025-10-29 11:07:20 -0500
nebbiolo2Linux (Ubuntu 24.04.3 LTS) / x86_64  OK    OK    OK  UNNEEDED, same version is already published
kjohnson3macOS 13.7.7 Ventura / arm64  OK    OK    ERROR    OK  
Package 2/3HostnameOS / ArchINSTALLBUILDCHECKBUILD BIN
miaViz 1.18.0  (landing page)
Tuomas Borman
git_last_commit: 3d494da
git_last_commit_date: 2025-10-29 11:07:33 -0500
nebbiolo2Linux (Ubuntu 24.04.3 LTS) / x86_64  OK    OK    OK  UNNEEDED, same version is already published
kjohnson3macOS 13.7.7 Ventura / arm64  OK    OK    OK    OK  NO, package depends on 'mia' which is only available as a source package that needs compilation
Package 3/3HostnameOS / ArchINSTALLBUILDCHECKBUILD BIN
TFBSTools 1.48.0  (landing page)
Ge Tan
git_last_commit: 77e9a0e
git_last_commit_date: 2025-10-29 10:16:59 -0500
nebbiolo2Linux (Ubuntu 24.04.3 LTS) / x86_64  OK    OK    OK  UNNEEDED, same version is already published
kjohnson3macOS 13.7.7 Ventura / arm64  OK    OK    OK    OK  UNNEEDED, same version is already published