Package: Director Version: 1.32.0 Command: /home/biocbuild/bbs-3.20-bioc/R/bin/R CMD check --install=check:Director.install-out.txt --library=/home/biocbuild/bbs-3.20-bioc/R/site-library --timings Director_1.32.0.tar.gz StartedAt: 2025-01-30 21:42:20 -0500 (Thu, 30 Jan 2025) EndedAt: 2025-01-30 21:42:43 -0500 (Thu, 30 Jan 2025) EllapsedTime: 23.0 seconds RetCode: 0 Status: OK CheckDir: Director.Rcheck Warnings: 0