Package: Director Version: 1.32.0 Command: /home/biocbuild/bbs-3.20-bioc/R/bin/R CMD build --keep-empty-dirs --no-resave-data --md5 Director StartedAt: 2025-01-30 17:03:35 -0500 (Thu, 30 Jan 2025) EndedAt: 2025-01-30 17:03:42 -0500 (Thu, 30 Jan 2025) EllapsedTime: 7.0 seconds RetCode: 0 Status: OK PackageFile: Director_1.32.0.tar.gz PackageFileSize: 695.7 KiB