Package: Director Version: 1.32.0 Command: /Library/Frameworks/R.framework/Resources/bin/R CMD build --keep-empty-dirs --no-resave-data Director StartedAt: 2024-11-08 16:56:24 -0500 (Fri, 08 Nov 2024) EndedAt: 2024-11-08 16:56:30 -0500 (Fri, 08 Nov 2024) EllapsedTime: 5.1 seconds RetCode: 0 Status: OK PackageFile: Director_1.32.0.tar.gz PackageFileSize: 695.2 KiB