Package: DifferentialRegulation Version: 2.4.0 Command: /home/biocbuild/R/R/bin/R CMD INSTALL DifferentialRegulation StartedAt: 2025-01-30 20:33:39 -0000 (Thu, 30 Jan 2025) EndedAt: 2025-01-30 20:34:49 -0000 (Thu, 30 Jan 2025) EllapsedTime: 69.8 seconds RetCode: 0 Status: OK