Package: DifferentialRegulation Version: 2.4.0 Command: /home/biocbuild/R/R/bin/R CMD build --keep-empty-dirs --no-resave-data DifferentialRegulation StartedAt: 2025-01-30 23:11:11 -0000 (Thu, 30 Jan 2025) EndedAt: 2025-01-30 23:31:14 -0000 (Thu, 30 Jan 2025) EllapsedTime: 1203.4 seconds RetCode: 0 Status: OK PackageFile: DifferentialRegulation_2.4.0.tar.gz PackageFileSize: 2.688 MiB