Package: DiffLogo Version: 2.30.0 Command: /home/biocbuild/bbs-3.20-bioc/R/bin/R CMD check --install=check:DiffLogo.install-out.txt --library=/home/biocbuild/bbs-3.20-bioc/R/site-library --timings DiffLogo_2.30.0.tar.gz StartedAt: 2025-01-30 21:40:31 -0500 (Thu, 30 Jan 2025) EndedAt: 2025-01-30 21:41:37 -0500 (Thu, 30 Jan 2025) EllapsedTime: 66.0 seconds RetCode: 0 Status: WARNINGS CheckDir: DiffLogo.Rcheck Warnings: 1