Package: DiffLogo Version: 2.32.0 Command: /Library/Frameworks/R.framework/Resources/bin/R CMD build --keep-empty-dirs --no-resave-data DiffLogo StartedAt: 2025-04-24 19:20:22 -0400 (Thu, 24 Apr 2025) EndedAt: 2025-04-24 19:22:05 -0400 (Thu, 24 Apr 2025) EllapsedTime: 102.8 seconds RetCode: 0 Status: OK PackageFile: DiffLogo_2.32.0.tar.gz PackageFileSize: 918.8 KiB