Package: DiffLogo Version: 2.32.0 Command: rm -rf DiffLogo.buildbin-libdir && mkdir DiffLogo.buildbin-libdir && /Users/biocbuild/BBS/utils/build-universal.sh DiffLogo_2.32.0.tar.gz /Library/Frameworks/R.framework/Resources/bin/R DiffLogo.buildbin-libdir StartedAt: 2025-04-25 13:11:15 -0400 (Fri, 25 Apr 2025) EndedAt: 2025-04-25 13:11:24 -0400 (Fri, 25 Apr 2025) EllapsedTime: 8.7 seconds RetCode: 1 Status: ERROR PackageFile: None PackageFileSize: NA