Package: DiffLogo Version: 2.32.0 Command: /Library/Frameworks/R.framework/Resources/bin/R CMD build --keep-empty-dirs --no-resave-data DiffLogo StartedAt: 2025-04-21 16:37:06 -0400 (Mon, 21 Apr 2025) EndedAt: 2025-04-21 16:38:02 -0400 (Mon, 21 Apr 2025) EllapsedTime: 55.9 seconds RetCode: 0 Status: OK PackageFile: DiffLogo_2.32.0.tar.gz PackageFileSize: 918.9 KiB