Package: DiffLogo Version: 2.32.0 Command: /home/biocbuild/R/R/bin/R CMD INSTALL DiffLogo StartedAt: 2025-04-21 20:13:06 -0000 (Mon, 21 Apr 2025) EndedAt: 2025-04-21 20:13:30 -0000 (Mon, 21 Apr 2025) EllapsedTime: 23.4 seconds RetCode: 0 Status: OK