Package: DiffLogo Version: 2.32.0 Command: /home/biocbuild/R/R/bin/R CMD check --install=check:DiffLogo.install-out.txt --library=/home/biocbuild/R/R/site-library --no-vignettes --timings DiffLogo_2.32.0.tar.gz StartedAt: 2025-04-22 08:21:14 -0000 (Tue, 22 Apr 2025) EndedAt: 2025-04-22 08:21:48 -0000 (Tue, 22 Apr 2025) EllapsedTime: 34.0 seconds RetCode: 0 Status: WARNINGS CheckDir: DiffLogo.Rcheck Warnings: 1