Package: DiffLogo Version: 2.32.0 Command: /home/biocbuild/R/R/bin/R CMD build --keep-empty-dirs --no-resave-data DiffLogo StartedAt: 2025-04-22 00:15:13 -0000 (Tue, 22 Apr 2025) EndedAt: 2025-04-22 00:16:17 -0000 (Tue, 22 Apr 2025) EllapsedTime: 64.0 seconds RetCode: 0 Status: OK PackageFile: DiffLogo_2.32.0.tar.gz PackageFileSize: 912.8 KiB