Package: DiffLogo Version: 2.32.0 Command: /Library/Frameworks/R.framework/Resources/bin/R CMD check --install=check:DiffLogo.install-out.txt --library=/Library/Frameworks/R.framework/Resources/library --no-vignettes --timings DiffLogo_2.32.0.tar.gz StartedAt: 2025-04-21 19:07:55 -0400 (Mon, 21 Apr 2025) EndedAt: 2025-04-21 19:08:11 -0400 (Mon, 21 Apr 2025) EllapsedTime: 16.2 seconds RetCode: 0 Status: WARNINGS CheckDir: DiffLogo.Rcheck Warnings: 1