Package: DiffLogo Version: 2.30.0 Command: /Library/Frameworks/R.framework/Resources/bin/R CMD check --install=check:DiffLogo.install-out.txt --library=/Library/Frameworks/R.framework/Resources/library --no-vignettes --timings DiffLogo_2.30.0.tar.gz StartedAt: 2025-01-31 17:39:07 -0500 (Fri, 31 Jan 2025) EndedAt: 2025-01-31 17:39:46 -0500 (Fri, 31 Jan 2025) EllapsedTime: 39.4 seconds RetCode: 0 Status: WARNINGS CheckDir: DiffLogo.Rcheck Warnings: 1