Package: DiffLogo Version: 2.32.0 Command: /Library/Frameworks/R.framework/Resources/bin/R CMD build --keep-empty-dirs --no-resave-data DiffLogo StartedAt: 2025-04-28 21:23:38 -0400 (Mon, 28 Apr 2025) EndedAt: 2025-04-28 21:23:58 -0400 (Mon, 28 Apr 2025) EllapsedTime: 20.2 seconds RetCode: 0 Status: OK PackageFile: DiffLogo_2.32.0.tar.gz PackageFileSize: 919.2 KiB