Package: DiffBind Version: 3.16.0 Command: rm -rf DiffBind.buildbin-libdir && mkdir DiffBind.buildbin-libdir && F:\biocbuild\bbs-3.20-bioc\R\bin\R.exe CMD INSTALL --build --library=DiffBind.buildbin-libdir DiffBind_3.16.0.tar.gz StartedAt: 2025-01-31 08:32:42 -0500 (Fri, 31 Jan 2025) EndedAt: 2025-01-31 08:35:10 -0500 (Fri, 31 Jan 2025) EllapsedTime: 147.9 seconds RetCode: 0 Status: OK PackageFile: DiffBind_3.16.0.zip PackageFileSize: 11.52 MiB