Package: DiffBind Version: 3.18.0 Command: rm -rf DiffBind.buildbin-libdir && mkdir DiffBind.buildbin-libdir && E:\biocbuild\bbs-3.21-bioc\R\bin\R.exe CMD INSTALL --build --library=DiffBind.buildbin-libdir DiffBind_3.18.0.tar.gz StartedAt: 2025-08-15 09:10:29 -0400 (Fri, 15 Aug 2025) EndedAt: 2025-08-15 09:13:04 -0400 (Fri, 15 Aug 2025) EllapsedTime: 154.9 seconds RetCode: 0 Status: OK PackageFile: DiffBind_3.18.0.zip PackageFileSize: 11.7 MiB