Package: DiffBind Version: 3.15.0 Command: C:\Users\biocbuild\bbs-3.20-bioc\R\bin\R.exe CMD INSTALL DiffBind StartedAt: 2024-07-15 15:48:39 -0400 (Mon, 15 Jul 2024) EndedAt: 2024-07-15 15:50:14 -0400 (Mon, 15 Jul 2024) EllapsedTime: 95.2 seconds RetCode: 0 Status: OK