Package: DiffBind Version: 3.16.0 Command: /home/biocbuild/bbs-3.20-bioc/R/bin/R CMD check --install=check:DiffBind.install-out.txt --library=/home/biocbuild/bbs-3.20-bioc/R/site-library --timings DiffBind_3.16.0.tar.gz StartedAt: 2025-01-30 21:39:37 -0500 (Thu, 30 Jan 2025) EndedAt: 2025-01-30 21:51:29 -0500 (Thu, 30 Jan 2025) EllapsedTime: 711.7 seconds RetCode: 0 Status: OK CheckDir: DiffBind.Rcheck Warnings: 0