Package: DiffBind Version: 3.18.0 Command: /Library/Frameworks/R.framework/Resources/bin/R CMD build --keep-empty-dirs --no-resave-data DiffBind StartedAt: 2025-04-21 16:36:46 -0400 (Mon, 21 Apr 2025) EndedAt: 2025-04-21 16:41:07 -0400 (Mon, 21 Apr 2025) EllapsedTime: 261.4 seconds RetCode: 0 Status: OK PackageFile: DiffBind_3.18.0.tar.gz PackageFileSize: 6.484 MiB