Package: DiffBind Version: 3.18.0 Command: /Library/Frameworks/R.framework/Resources/bin/R CMD build --keep-empty-dirs --no-resave-data DiffBind StartedAt: 2025-05-08 22:55:57 -0400 (Thu, 08 May 2025) EndedAt: 2025-05-08 22:59:55 -0400 (Thu, 08 May 2025) EllapsedTime: 237.7 seconds RetCode: 0 Status: OK PackageFile: DiffBind_3.18.0.tar.gz PackageFileSize: 6.483 MiB