Package: DepecheR Version: 1.24.0 Command: /home/biocbuild/bbs-3.21-bioc/R/bin/R CMD build --keep-empty-dirs --no-resave-data DepecheR StartedAt: 2025-10-01 17:13:30 -0400 (Wed, 01 Oct 2025) EndedAt: 2025-10-01 17:14:24 -0400 (Wed, 01 Oct 2025) EllapsedTime: 54.0 seconds RetCode: 0 Status: OK PackageFile: DepecheR_1.24.0.tar.gz PackageFileSize: 2.561 MiB