Package: DepInfeR Version: 1.12.0 Maintainer: Junyan Lu MaintainerEmail: jylu1118 at gmail.com git_url: https://git.bioconductor.org/packages/DepInfeR git_branch: RELEASE_3_21 git_last_commit: aa32801 git_last_commit_date: 2025-04-15 12:48:32 -0400 (Tue, 15 Apr 2025)