Package: DelayedTensor Version: 1.12.0 Command: /home/biocbuild/R/R/bin/R CMD check --install=check:DelayedTensor.install-out.txt --library=/home/biocbuild/R/R/site-library --no-vignettes --timings DelayedTensor_1.12.0.tar.gz StartedAt: 2025-01-31 05:33:45 -0000 (Fri, 31 Jan 2025) EndedAt: 2025-01-31 05:41:11 -0000 (Fri, 31 Jan 2025) EllapsedTime: 445.5 seconds RetCode: 0 Status: WARNINGS CheckDir: DelayedTensor.Rcheck Warnings: 1