Package: DelayedTensor Version: 1.12.0 Command: chmod a+r DelayedTensor -R && F:\biocbuild\bbs-3.20-bioc\R\bin\R.exe CMD build --keep-empty-dirs --no-resave-data DelayedTensor StartedAt: 2025-01-30 18:22:10 -0500 (Thu, 30 Jan 2025) EndedAt: 2025-01-30 18:28:57 -0500 (Thu, 30 Jan 2025) EllapsedTime: 407.0 seconds RetCode: 0 Status: OK PackageFile: DelayedTensor_1.12.0.tar.gz PackageFileSize: 4.129 MiB