Package: DelayedTensor Version: 1.14.0 Command: /Library/Frameworks/R.framework/Resources/bin/R CMD INSTALL DelayedTensor StartedAt: 2025-05-15 16:49:03 -0400 (Thu, 15 May 2025) EndedAt: 2025-05-15 16:50:06 -0400 (Thu, 15 May 2025) EllapsedTime: 63.1 seconds RetCode: 0 Status: OK