Package: DelayedTensor Version: 1.14.0 Command: rm -rf DelayedTensor.buildbin-libdir && mkdir DelayedTensor.buildbin-libdir && /Users/biocbuild/BBS/utils/build-universal.sh DelayedTensor_1.14.0.tar.gz /Library/Frameworks/R.framework/Resources/bin/R DelayedTensor.buildbin-libdir StartedAt: 2025-05-16 12:31:27 -0400 (Fri, 16 May 2025) EndedAt: 2025-05-16 12:32:31 -0400 (Fri, 16 May 2025) EllapsedTime: 63.8 seconds RetCode: 0 Status: OK PackageFile: DelayedTensor_1.14.0.tgz PackageFileSize: 3.097 MiB