Package: DelayedTensor Version: 1.14.0 Command: rm -rf DelayedTensor.buildbin-libdir && mkdir DelayedTensor.buildbin-libdir && /Users/biocbuild/BBS/utils/build-universal.sh DelayedTensor_1.14.0.tar.gz /Library/Frameworks/R.framework/Resources/bin/R DelayedTensor.buildbin-libdir StartedAt: 2025-04-22 00:41:50 -0400 (Tue, 22 Apr 2025) EndedAt: 2025-04-22 00:42:33 -0400 (Tue, 22 Apr 2025) EllapsedTime: 42.6 seconds RetCode: 0 Status: OK PackageFile: DelayedTensor_1.14.0.tgz PackageFileSize: 3.097 MiB