Package: DelayedTensor Version: 1.14.0 Command: /Library/Frameworks/R.framework/Resources/bin/R CMD check --install=check:DelayedTensor.install-out.txt --library=/Library/Frameworks/R.framework/Resources/library --no-vignettes --timings DelayedTensor_1.14.0.tar.gz StartedAt: 2025-04-21 19:03:10 -0400 (Mon, 21 Apr 2025) EndedAt: 2025-04-21 19:05:13 -0400 (Mon, 21 Apr 2025) EllapsedTime: 122.4 seconds RetCode: 0 Status: WARNINGS CheckDir: DelayedTensor.Rcheck Warnings: 2