Package: DelayedTensor Version: 1.14.0 Command: /Library/Frameworks/R.framework/Resources/bin/R CMD build --keep-empty-dirs --no-resave-data DelayedTensor StartedAt: 2025-04-21 16:08:39 -0400 (Mon, 21 Apr 2025) EndedAt: 2025-04-21 16:09:54 -0400 (Mon, 21 Apr 2025) EllapsedTime: 74.8 seconds RetCode: 0 Status: OK PackageFile: DelayedTensor_1.14.0.tar.gz PackageFileSize: 4.129 MiB