Package: DelayedTensor Version: 1.14.0 Command: /Library/Frameworks/R.framework/Resources/bin/R CMD INSTALL DelayedTensor StartedAt: 2025-05-19 18:09:48 -0400 (Mon, 19 May 2025) EndedAt: 2025-05-19 18:10:26 -0400 (Mon, 19 May 2025) EllapsedTime: 37.6 seconds RetCode: 0 Status: OK