Package: DelayedDataFrame Version: 1.22.0 Command: /home/biocbuild/R/R/bin/R CMD check --install=check:DelayedDataFrame.install-out.txt --library=/home/biocbuild/R/R/site-library --no-vignettes --timings DelayedDataFrame_1.22.0.tar.gz StartedAt: 2025-01-31 05:32:19 -0000 (Fri, 31 Jan 2025) EndedAt: 2025-01-31 05:34:45 -0000 (Fri, 31 Jan 2025) EllapsedTime: 146.1 seconds RetCode: 0 Status: OK CheckDir: DelayedDataFrame.Rcheck Warnings: 0